BEGIN:VCALENDAR
VERSION:2.0
PRODID:-//Tukios.com/
BEGIN:VEVENT
UID:ba770157-5f27-427e-a81d-a23178dbc540@www.leesfuneralhome.com
DTSTAMP:20260423T043916Z
DTSTART:20260427T150000Z
DTEND:20260427T160000Z
SUMMARY:Visitation with Family
DESCRIPTION:*** Wake/Viewing/Visitation will be held Monday April 27th, 
	2026 from 11:00AM-12:00PM at Lee's Funeral Home
*** Feel Free to wear 
	facemasks & use hand sanitizer
*** You will ONLY ENTER thru FRONT Door 
	on Fisher Av.; BUT EXIT once inside when ready, you will EXIT thru SIDE 
	DOOR By PIANO that exits to the Intervale Street side of building closer 
	to our parking lot
*** Please still FEEL FREE TO BRING & use your own 
	pen to sign-in, -OR- you may bring an address label to paste in register 
	book in lieu of signing
*** Please still limit 
	touching/hugging/handshaking, preferably just elbow bumping briefly if at 
	all
*** The family will be live-streaming the service on Zoom, available 
	here on our website the day of the service where it says LIVESTREAM Today 
	WATCH NOW, so you're able to view there/here also/instead.    
	

~~~~~~~~~~~~~~~~~~~~~~~~~~~~~~~~

Please leave written condolences 
	now herein on the Memory Wall to express your sorrow, share your 
	memories, and as an expression of sympathy & way to communicate 
	with/offer comfort to the family, that they and others may see, and may 
	be a lasting tribute in his honor, whether you're able to attend or not.  
	Definitely Please SIGN IN on the Memory Wall as a virtual way of signing 
	the register book, especially if choosing to stay safe/watch remotely/not 
	able to sign in person.

~~~~~~~~~~~~~~~~~~~~~~~~~~~~~

You may send 
	flowers, and/or as a lasting tribute you may choose to plant a tree in 
	his name/memory/honor, and/or the family kindly suggests a contribution 
	may be made in his name/memory/honor to: Lewy Body Dementia Association 
	and/or Alzheimer's Association (may be done simply through the donation 
	tabs/links here in website at the bottom of his Obituary Page, or on your 
	own). If sending flowers, they may be delivered on either Sunday April 
	26th, 2026 by/before 6:00PM to Lee's Funeral Home, or Monday April 27th 
	by/before 10:45AM to Lee's Funeral Home. The Family Thanks You!
URL:https://www.leesfuneralhome.com/obituaries/gregory-jackson
LOCATION: 160 Fisher Ave  White Plains NY 10606
GEO:41.0265159;-73.7763954
END:VEVENT
END:VCALENDAR